BEGIN:VCALENDAR
VERSION:2.0
PRODID:icalendar-ruby
CALSCALE:GREGORIAN
METHOD:PUBLISH
BEGIN:VEVENT
DTSTAMP:20260421T081923Z
UID:5-611397@lifepointchurchtroy.com
DTSTART:20261025T173000Z
DTEND:20261025T183000Z
CLASS:PUBLIC
CREATED:20260420T175716
DESCRIPTION:Sunday Worship
LAST-MODIFIED:20260420T175716
LOCATION:
SUMMARY:Sunday Worship
URL;VALUE=URI:https://lifepointchurchtroy.com/events/sunday-worship/2026-10
 -25
END:VEVENT
END:VCALENDAR
