BEGIN:VCALENDAR
VERSION:2.0
PRODID:icalendar-ruby
CALSCALE:GREGORIAN
METHOD:PUBLISH
BEGIN:VEVENT
DTSTAMP:20260420T212239Z
UID:8-610530@lifepointchurchtroy.com
DTSTART:20261101T183000Z
DTEND:20261101T193000Z
CLASS:PUBLIC
CREATED:20260420T124630
DESCRIPTION:
LAST-MODIFIED:20260420T124630
LOCATION:Main Kids Room
SUMMARY:LifePoint Kids - Sunday AM
URL;VALUE=URI:https://lifepointchurchtroy.com/events/lifepoint-kids-sunday-
 am/2026-11-01
END:VEVENT
END:VCALENDAR
