BEGIN:VCALENDAR
VERSION:2.0
PRODID:icalendar-ruby
CALSCALE:GREGORIAN
METHOD:PUBLISH
BEGIN:VEVENT
DTSTAMP:20260420T180350Z
UID:8-610036@lifepointchurchtroy.com
DTSTART:20261018T173000Z
DTEND:20261018T183000Z
CLASS:PUBLIC
CREATED:20260420T101140
DESCRIPTION:
LAST-MODIFIED:20260420T101140
LOCATION:Main Kids Room
SUMMARY:LifePoint Kids - Sunday AM
URL;VALUE=URI:https://lifepointchurchtroy.com/events/lifepoint-kids-sunday-
 am/2026-10-18
END:VEVENT
END:VCALENDAR
