BEGIN:VCALENDAR
VERSION:2.0
PRODID:icalendar-ruby
CALSCALE:GREGORIAN
METHOD:PUBLISH
BEGIN:VEVENT
DTSTAMP:20260420T111438Z
UID:8-608556@lifepointchurchtroy.com
DTSTART:20260920T173000Z
DTEND:20260920T183000Z
CLASS:PUBLIC
CREATED:20260420T001840
DESCRIPTION:
LAST-MODIFIED:20260420T001840
LOCATION:Main Kids Room
SUMMARY:LifePoint Kids - Sunday AM
URL;VALUE=URI:https://lifepointchurchtroy.com/events/lifepoint-kids-sunday-
 am/2026-09-20
END:VEVENT
END:VCALENDAR
