BEGIN:VCALENDAR
VERSION:2.0
PRODID:icalendar-ruby
CALSCALE:GREGORIAN
METHOD:PUBLISH
BEGIN:VEVENT
DTSTAMP:20260423T144604Z
UID:9-618027@lifepointchurchtroy.com
DTSTART:20261105T010000Z
DTEND:20261105T033000Z
CLASS:PUBLIC
CREATED:20260423T051931
DESCRIPTION:LifePoint Prayer Group Meets starting @ 5:00 - Until\nLifePoint
  Kids and LifePoint Youth Meets from 6:30-7:30
LAST-MODIFIED:20260423T051931
LOCATION:
SUMMARY:Journey Groups
URL;VALUE=URI:https://lifepointchurchtroy.com/events/journey-groups/2026-11
 -04
END:VEVENT
END:VCALENDAR
