BEGIN:VCALENDAR
VERSION:2.0
PRODID:icalendar-ruby
CALSCALE:GREGORIAN
METHOD:PUBLISH
BEGIN:VEVENT
DTSTAMP:20260423T085020Z
UID:9-617530@lifepointchurchtroy.com
DTSTART:20261008T000000Z
DTEND:20261008T023000Z
CLASS:PUBLIC
CREATED:20260422T194914
DESCRIPTION:LifePoint Prayer Group Meets starting @ 5:00 - Until\nLifePoint
  Kids and LifePoint Youth Meets from 6:30-7:30
LAST-MODIFIED:20260422T194914
LOCATION:
SUMMARY:Journey Groups
URL;VALUE=URI:https://lifepointchurchtroy.com/events/journey-groups/2026-10
 -07
END:VEVENT
END:VCALENDAR
