BEGIN:VCALENDAR
VERSION:2.0
PRODID:icalendar-ruby
CALSCALE:GREGORIAN
METHOD:PUBLISH
BEGIN:VEVENT
DTSTAMP:20260421T000227Z
UID:9-611133@lifepointchurchtroy.com
DTSTART:20261001T000000Z
DTEND:20261001T023000Z
CLASS:PUBLIC
CREATED:20260420T152226
DESCRIPTION:LifePoint Prayer Group Meets starting @ 5:00 - Until\nLifePoint
  Kids and LifePoint Youth Meets from 6:30-7:30
LAST-MODIFIED:20260420T152226
LOCATION:
SUMMARY:Journey Groups
URL;VALUE=URI:https://lifepointchurchtroy.com/events/journey-groups/2026-09
 -30
END:VEVENT
END:VCALENDAR
