BEGIN:VCALENDAR
VERSION:2.0
PRODID:icalendar-ruby
CALSCALE:GREGORIAN
METHOD:PUBLISH
BEGIN:VEVENT
DTSTAMP:20260420T205434Z
UID:9-610639@lifepointchurchtroy.com
DTSTART:20260917T000000Z
DTEND:20260917T023000Z
CLASS:PUBLIC
CREATED:20260420T124630
DESCRIPTION:LifePoint Prayer Group Meets starting @ 5:00 - Until\nLifePoint
  Kids and LifePoint Youth Meets from 6:30-7:30
LAST-MODIFIED:20260420T124630
LOCATION:
SUMMARY:Journey Groups
URL;VALUE=URI:https://lifepointchurchtroy.com/events/journey-groups/2026-09
 -16
END:VEVENT
END:VCALENDAR
