BEGIN:VCALENDAR
VERSION:2.0
PRODID:icalendar-ruby
CALSCALE:GREGORIAN
METHOD:PUBLISH
BEGIN:VEVENT
DTSTAMP:20260420T191240Z
UID:9-610146@lifepointchurchtroy.com
DTSTART:20260910T000000Z
DTEND:20260910T023000Z
CLASS:PUBLIC
CREATED:20260420T101140
DESCRIPTION:LifePoint Prayer Group Meets starting @ 5:00 - Until\nLifePoint
  Kids and LifePoint Youth Meets from 6:30-7:30
LAST-MODIFIED:20260420T101140
LOCATION:
SUMMARY:Journey Groups
URL;VALUE=URI:https://lifepointchurchtroy.com/events/journey-groups/2026-09
 -09
END:VEVENT
END:VCALENDAR
